BEGIN:VCALENDAR
VERSION:2.0
PRODID:-//Bottled Water | IBWA | Bottled Water - ECPv5.5.0.1//NONSGML v1.0//EN
CALSCALE:GREGORIAN
METHOD:PUBLISH
X-WR-CALNAME:Bottled Water | IBWA | Bottled Water
X-ORIGINAL-URL:https://bottledwater.org
X-WR-CALDESC:Events for Bottled Water | IBWA | Bottled Water
BEGIN:VTIMEZONE
TZID:America/New_York
BEGIN:DAYLIGHT
TZOFFSETFROM:-0500
TZOFFSETTO:-0400
TZNAME:EDT
DTSTART:20210314T070000
END:DAYLIGHT
BEGIN:STANDARD
TZOFFSETFROM:-0400
TZOFFSETTO:-0500
TZNAME:EST
DTSTART:20211107T060000
END:STANDARD
END:VTIMEZONE
BEGIN:VEVENT
DTSTART;TZID=America/New_York:20210608T110000
DTEND;TZID=America/New_York:20210610T161500
DTSTAMP:20210420T203133
CREATED:20190309T033027Z
LAST-MODIFIED:20210409T153925Z
UID:385-1623150000-1623341700@bottledwater.org
SUMMARY:2021 June IBWA Board of Directors and Committee Meetings
DESCRIPTION:Meetings begin at 11:00 am on Monday\, June 8; end 4:15 pm Thursday\, June 10
URL:https://bottledwater.org/event/2021-june-ibwa-board-of-directors-and-committee-meetings-and-capitol-hill-appointments/
LOCATION:Video Conference\, United States
CATEGORIES:IBWA Members Only
END:VEVENT
END:VCALENDAR